BEGIN:VCALENDAR
VERSION:2.0
PRODID:-//特日カレンダー - ECPv6.15.16//NONSGML v1.0//EN
CALSCALE:GREGORIAN
METHOD:PUBLISH
X-ORIGINAL-URL:https://tokubicalendar.com
X-WR-CALDESC:特日カレンダー のイベント
REFRESH-INTERVAL;VALUE=DURATION:PT1H
X-Robots-Tag:noindex
X-PUBLISHED-TTL:PT1H
BEGIN:VTIMEZONE
TZID:Asia/Tokyo
BEGIN:STANDARD
TZOFFSETFROM:+0900
TZOFFSETTO:+0900
TZNAME:JST
DTSTART:20250101T000000
END:STANDARD
END:VTIMEZONE
BEGIN:VEVENT
DTSTART;VALUE=DATE:20260704
DTEND;VALUE=DATE:20260705
DTSTAMP:20260419T215459
CREATED:20260223T163140Z
LAST-MODIFIED:20260223T163140Z
UID:40-1783123200-1783209599@tokubicalendar.com
SUMMARY:まろ吉 記念日（ファンキージャグラー導入日）
DESCRIPTION:ファンキージャグラー』シリーズに関連する犬のキャラクター「まろ吉」にちなんだ日（2016年07月04日の初代導入日）。同機は設定6の機械割が高く人気のため、狙い目として非常に優秀な1日。
URL:https://tokubicalendar.com/event/%e3%81%be%e3%82%8d%e5%90%89-%e8%a8%98%e5%bf%b5%e6%97%a5%ef%bc%88%e3%83%95%e3%82%a1%e3%83%b3%e3%82%ad%e3%83%bc%e3%82%b8%e3%83%a3%e3%82%b0%e3%83%a9%e3%83%bc%e5%b0%8e%e5%85%a5%e6%97%a5%ef%bc%89/
END:VEVENT
END:VCALENDAR